BEGIN:VCALENDAR
VERSION:2.0
PRODID:-//CISC-ICCA - ECPv6.15.20//NONSGML v1.0//EN
CALSCALE:GREGORIAN
METHOD:PUBLISH
X-WR-CALNAME:CISC-ICCA
X-ORIGINAL-URL:https://www.cisc-icca.ca
X-WR-CALDESC:Events for CISC-ICCA
REFRESH-INTERVAL;VALUE=DURATION:PT1H
X-Robots-Tag:noindex
X-PUBLISHED-TTL:PT1H
BEGIN:VTIMEZONE
TZID:America/Toronto
BEGIN:DAYLIGHT
TZOFFSETFROM:-0500
TZOFFSETTO:-0400
TZNAME:EDT
DTSTART:20240310T070000
END:DAYLIGHT
BEGIN:STANDARD
TZOFFSETFROM:-0400
TZOFFSETTO:-0500
TZNAME:EST
DTSTART:20241103T060000
END:STANDARD
BEGIN:DAYLIGHT
TZOFFSETFROM:-0500
TZOFFSETTO:-0400
TZNAME:EDT
DTSTART:20250309T070000
END:DAYLIGHT
BEGIN:STANDARD
TZOFFSETFROM:-0400
TZOFFSETTO:-0500
TZNAME:EST
DTSTART:20251102T060000
END:STANDARD
BEGIN:DAYLIGHT
TZOFFSETFROM:-0500
TZOFFSETTO:-0400
TZNAME:EDT
DTSTART:20260308T070000
END:DAYLIGHT
BEGIN:STANDARD
TZOFFSETFROM:-0400
TZOFFSETTO:-0500
TZNAME:EST
DTSTART:20261101T060000
END:STANDARD
BEGIN:DAYLIGHT
TZOFFSETFROM:-0500
TZOFFSETTO:-0400
TZNAME:EDT
DTSTART:20270314T070000
END:DAYLIGHT
BEGIN:STANDARD
TZOFFSETFROM:-0400
TZOFFSETTO:-0500
TZNAME:EST
DTSTART:20271107T060000
END:STANDARD
END:VTIMEZONE
BEGIN:VTIMEZONE
TZID:America/Vancouver
BEGIN:DAYLIGHT
TZOFFSETFROM:-0800
TZOFFSETTO:-0700
TZNAME:PDT
DTSTART:20250309T100000
END:DAYLIGHT
BEGIN:STANDARD
TZOFFSETFROM:-0700
TZOFFSETTO:-0800
TZNAME:PST
DTSTART:20251102T090000
END:STANDARD
BEGIN:DAYLIGHT
TZOFFSETFROM:-0800
TZOFFSETTO:-0700
TZNAME:PDT
DTSTART:20260308T100000
END:DAYLIGHT
BEGIN:STANDARD
TZOFFSETFROM:-0700
TZOFFSETTO:-0800
TZNAME:PST
DTSTART:20261101T090000
END:STANDARD
BEGIN:DAYLIGHT
TZOFFSETFROM:-0800
TZOFFSETTO:-0700
TZNAME:PDT
DTSTART:20270314T100000
END:DAYLIGHT
BEGIN:STANDARD
TZOFFSETFROM:-0700
TZOFFSETTO:-0800
TZNAME:PST
DTSTART:20271107T090000
END:STANDARD
END:VTIMEZONE
BEGIN:VEVENT
DTSTART;VALUE=DATE:20250903
DTEND;VALUE=DATE:20250904
DTSTAMP:20260420T000646
CREATED:20250425T134307Z
LAST-MODIFIED:20250721T172051Z
UID:58447-1756857600-1756943999@www.cisc-icca.ca
SUMMARY:CISC BC Region Annual Golf Tournament
DESCRIPTION:BC Region – Time to hit the links with the CISC!\nJoin us on September 3\, 2025\, as the CISC takes to Northview Golf & Country Club in Surrey\, British Columbia for the annual CISC BC Golf Tournament. We invite you to break out the golf clubs and join us for an action-packed day at one of BC’s premier courses in the name of steel construction. More tournament details to be released closer to the date.\n\nNorthview Golf & Country Club course information: Northview | Premier golf and country club (northviewgolf.com)\n\n\nTournament Tickets and Sponsorship Available Here\nWant to receive immediate event updates right to your inbox? Sign up for the CISC mailing list today!
URL:https://www.cisc-icca.ca/event/bc-region-golf-tournament/
LOCATION:Northview Golf & Country Club\, 6857 - 168th Street\, Surrey\, British Columbia\, Canada
CATEGORIES:British Columbia,British Columbia
ATTACH;FMTTYPE=image/jpeg:https://www.cisc-icca.ca/wp-content/uploads/2025/04/CISC_BC_Golf_2025_Thumbnail.jpg
END:VEVENT
BEGIN:VEVENT
DTSTART;TZID=America/Vancouver:20260119T150000
DTEND;TZID=America/Vancouver:20260119T220000
DTSTAMP:20260420T000646
CREATED:20251118T183242Z
LAST-MODIFIED:20251127T025015Z
UID:59782-1768834800-1768860000@www.cisc-icca.ca
SUMMARY:CISC BC Region Hockey Night in Vancouver
DESCRIPTION:Join us on Monday\, January 19 at Rogers Arena in Vancouver BC\, as we gather to watch the Vancouver Canucks take on the New York Islanders in this East vs West conference showdown. Spend your evening cheering on the Canucks while connecting\, networking\, and relaxing with the CISC! \n** A CISC BC Region meeting is set to take place prior to the game. \nCost: *Early bird tickets are $450 until December 31. Starting in 2026\, tickets will be $500 each. (GST extra for all tickets.) \nSchedule:  (*All times are PST) \n3:00 PM – 5:00 PM:  BC Region Meeting:  *Open to CISC Members & Associates Only (Crossbar Lounge)\n5:00 PM: Gates open at Rogers Arena\n7:00 PM: Puck drop\n7:00 PM – 10:00 PM: National Hockey League matchup between the Vancouver Canucks and the New York Islanders \nTickets and event sponsorship packages available today!
URL:https://www.cisc-icca.ca/event/cisc-bc-region-hockey-night-in-vancouver-2/
LOCATION:Rogers Arena\, 800 Griffiths Way\, Vancouver\, BC\, V6B 6G1\, Canada
CATEGORIES:British Columbia
ATTACH;FMTTYPE=image/png:https://www.cisc-icca.ca/wp-content/uploads/2025/11/Hockey-night-thumbnail-2000-x-1875-px-1200-x-800-px-4.png
END:VEVENT
BEGIN:VEVENT
DTSTART;TZID=America/Toronto:20260528T180000
DTEND;TZID=America/Toronto:20260528T220000
DTSTAMP:20260420T000646
CREATED:20251208T144959Z
LAST-MODIFIED:20260327T002258Z
UID:59886-1779991200-1780005600@www.cisc-icca.ca
SUMMARY:CISC BC Region Awards of Excellence in Steel Construction
DESCRIPTION:The CISC BC Region Awards of Excellence in Steel Construction is the region’s premier awards celebration of 2026!\nThe CISC BC Region Awards of Excellence in Steel Construction 2026 is the region’s premier celebration of innovation\, creativity\, and achievement in steel. Recognized as one of Canada’s most prestigious industry events\, it highlights projects that showcase complexity\, originality\, and beauty. Each year\, hundreds of nominations are submitted by engineers\, architects\, fabricators\, contractors\, and developers — the visionaries and builders driving the steel construction industry forward. \nA distinguished jury of renowned architects\, engineers\, and steel experts carefully selects the finalists\, with winners revealed during the highly anticipated Awards Ceremony and Gala Dinner. More than an evening of recognition\, the event is a vibrant celebration of the talent\, passion\, and innovation that define Canada’s steel construction community\, offering project teams the spotlight while uniting the industry in admiration and applause. The award project finalists have been announced! View them here. \nParadox Hotel Vancouver\n1161 West Georgia St.\, Vancouver\, BC\nEvening Schedule – Thursday\, May 28\, 2026 \n6:00 PM – 7:00 PM: Welcome ReceptionA relaxed opening reception to greet guests and begin the evening. \n7:00 PM – 9:00 PM: Dinner and Awards CeremonyCelebrating outstanding achievements in steel construction across the BC region. \n9:00 PM – 10:00 PM: Closing ReceptionMix\, mingle\, and continue the celebration following the ceremony.\n \n\nKeynote Speaker of the Evening – Brian Burke\n\n\n\n\n\nAn accomplished executive whose career has been highlighted by winning a Stanley Cup and an Olympic silver medal\, Brian Burke’s passion and contributions to the betterment of the game of hockey have touched every level of the sport. \nHis list of accomplishments includes serving as former General Manager for the Hartford Whalers\, Vancouver Canucks\, Toronto Maple Leafs\, Calgary Flames\, and Anaheim Ducks; as former SVP and Director of Hockey Operations for the NHL; and as President of Hockey Operations for the Pittsburgh Penguins. His most recent role was serving as the first-ever Executive Director of the Professional Women’s Hockey League Players’ Association. \nBurke has also worked in broadcasting during his career\, including as an analyst for Corus\, SiriusXM\, Rogers\, and Sportsnet\, and has served in numerous board positions for both corporate and charitable organizations. \nA strong supporter of LGBTQ+ rights\, Burke established the You Can Play Project\, which targets homophobia and promotes safety and inclusion in sports\, in honor of his late son\, Brendan. He was inducted into the U.S. Hockey Hall of Fame in 2023.
URL:https://www.cisc-icca.ca/event/cisc-bc-region-awards-of-excellence-in-steel-construction-2/
LOCATION:Paradox Hotel Vancouver\, 1161 West Georgia St.\, Vancouver\, British Columbia\, V6E0C6\, Canada
CATEGORIES:British Columbia,British Columbia
ATTACH;FMTTYPE=image/png:https://www.cisc-icca.ca/wp-content/uploads/2025/12/CISC-BC-REGION-AWARDS-OF-EXCELLENCE-IN-STEEL-CONTRUCTION-2.png
END:VEVENT
END:VCALENDAR