BEGIN:VCALENDAR
VERSION:2.0
PRODID:-//CISC-ICCA - ECPv6.15.20//NONSGML v1.0//EN
CALSCALE:GREGORIAN
METHOD:PUBLISH
X-ORIGINAL-URL:https://www.cisc-icca.ca
X-WR-CALDESC:Events for CISC-ICCA
REFRESH-INTERVAL;VALUE=DURATION:PT1H
X-Robots-Tag:noindex
X-PUBLISHED-TTL:PT1H
BEGIN:VTIMEZONE
TZID:America/Toronto
BEGIN:DAYLIGHT
TZOFFSETFROM:-0500
TZOFFSETTO:-0400
TZNAME:EDT
DTSTART:20250309T070000
END:DAYLIGHT
BEGIN:STANDARD
TZOFFSETFROM:-0400
TZOFFSETTO:-0500
TZNAME:EST
DTSTART:20251102T060000
END:STANDARD
BEGIN:DAYLIGHT
TZOFFSETFROM:-0500
TZOFFSETTO:-0400
TZNAME:EDT
DTSTART:20260308T070000
END:DAYLIGHT
BEGIN:STANDARD
TZOFFSETFROM:-0400
TZOFFSETTO:-0500
TZNAME:EST
DTSTART:20261101T060000
END:STANDARD
BEGIN:DAYLIGHT
TZOFFSETFROM:-0500
TZOFFSETTO:-0400
TZNAME:EDT
DTSTART:20270314T070000
END:DAYLIGHT
BEGIN:STANDARD
TZOFFSETFROM:-0400
TZOFFSETTO:-0500
TZNAME:EST
DTSTART:20271107T060000
END:STANDARD
END:VTIMEZONE
BEGIN:VEVENT
DTSTART;TZID=America/Toronto:20260204T120000
DTEND;TZID=America/Toronto:20260204T130000
DTSTAMP:20260424T184535
CREATED:20260113T172826Z
LAST-MODIFIED:20260113T200924Z
UID:59947-1770206400-1770210000@www.cisc-icca.ca
SUMMARY:Navigating Canada’s Evolving Trade Environment - Insights from the Canadian Steel Producers Association
DESCRIPTION:Navigating Canada’s Evolving Trade Environment – Insights from the Canadian Steel Producers Association\nInsights from the Canadian Steel Producers Association \nDate: Wednesday\, February 4\, 2026Time: 12:00 PM – 1:00 PM ESTLocation: Online Webinar \nOverview\nThe Canadian Institute of Steel Construction (CISC) invites members and associates to an exclusive webinar with François Desmarais\, Vice President\, Trade & Industry Affairs at the Canadian Steel Producers Association (CSPA). \nFrançois will provide an in-depth look at Canada’s tariff-rate quota framework\, clarifying what is—and isn’t—subject to tariffs. Participants will also gain insight into the ongoing collaboration between steel producers and fabricators and have the opportunity to ask questions directly\, helping shape future industry engagement. \nWhy Attend?\n\nUnderstand Canada’s evolving tariff and trade policies affecting the steel sector\nGain insight into collaboration between producers and fabricators\nEngage directly with government and industry experts\nAsk questions and share perspectives to inform future initiatives\n\nRegister Now
URL:https://www.cisc-icca.ca/event/navigating-canadas-evolving-trade-environment-insights-from-the-canadian-steel-producers-association/
LOCATION:PEI
CATEGORIES:Webinar,Webinar
ATTACH;FMTTYPE=image/png:https://www.cisc-icca.ca/wp-content/uploads/2026/01/Webinar-Banner-2025-LinkedIn-Post-1.png
END:VEVENT
BEGIN:VEVENT
DTSTART;TZID=America/Toronto:20260204T153000
DTEND;TZID=America/Toronto:20260204T220000
DTSTAMP:20260424T184535
CREATED:20251127T024427Z
LAST-MODIFIED:20260114T154508Z
UID:59839-1770219000-1770242400@www.cisc-icca.ca
SUMMARY:CISC QC Region Hockey Night in Laval
DESCRIPTION:Join the CISC as we come together to support Canada’s steel construction industry and enjoy an action-packed night of professional hockey. Mark your calendars for February 4\, 2026\, as we gather at Place Bell in Laval\, Quebec\, to watch the Montreal Canadien stars of tomorrow\, the Laval Rocket play host to American Hockey League foe\, the Utica Comets. \nMore Information\, tickets\, and event sponsorship available here
URL:https://www.cisc-icca.ca/event/cisc-qc-region-hockey-night-in-laval/
LOCATION:Place Bell\, 1950 R Claude-Gagne\, Laval\, Quebec\, H7N 0E4\, Canada
CATEGORIES:Quebec,Québec
ATTACH;FMTTYPE=image/png:https://www.cisc-icca.ca/wp-content/uploads/2025/11/Hockey-night-thumbnail-2000-x-1875-px-1200-x-800-px-5.png
END:VEVENT
END:VCALENDAR