BEGIN:VCALENDAR
VERSION:2.0
PRODID:-//CISC-ICCA - ECPv6.15.20//NONSGML v1.0//EN
CALSCALE:GREGORIAN
METHOD:PUBLISH
X-WR-CALNAME:CISC-ICCA
X-ORIGINAL-URL:https://www.cisc-icca.ca
X-WR-CALDESC:Events for CISC-ICCA
REFRESH-INTERVAL;VALUE=DURATION:PT1H
X-Robots-Tag:noindex
X-PUBLISHED-TTL:PT1H
BEGIN:VTIMEZONE
TZID:America/Toronto
BEGIN:DAYLIGHT
TZOFFSETFROM:-0500
TZOFFSETTO:-0400
TZNAME:EDT
DTSTART:20250309T070000
END:DAYLIGHT
BEGIN:STANDARD
TZOFFSETFROM:-0400
TZOFFSETTO:-0500
TZNAME:EST
DTSTART:20251102T060000
END:STANDARD
BEGIN:DAYLIGHT
TZOFFSETFROM:-0500
TZOFFSETTO:-0400
TZNAME:EDT
DTSTART:20260308T070000
END:DAYLIGHT
BEGIN:STANDARD
TZOFFSETFROM:-0400
TZOFFSETTO:-0500
TZNAME:EST
DTSTART:20261101T060000
END:STANDARD
BEGIN:DAYLIGHT
TZOFFSETFROM:-0500
TZOFFSETTO:-0400
TZNAME:EDT
DTSTART:20270314T070000
END:DAYLIGHT
BEGIN:STANDARD
TZOFFSETFROM:-0400
TZOFFSETTO:-0500
TZNAME:EST
DTSTART:20271107T060000
END:STANDARD
END:VTIMEZONE
BEGIN:VEVENT
DTSTART;TZID=America/Toronto:20260122T130000
DTEND;TZID=America/Toronto:20260122T140000
DTSTAMP:20260423T122424
CREATED:20260112T185600Z
LAST-MODIFIED:20260112T195220Z
UID:59933-1769086800-1769090400@www.cisc-icca.ca
SUMMARY:Steel Sector Supports: Strategic Response Fund and Regional Tariff Response Initative
DESCRIPTION:Strategic Response Fund & Regional Tariff Response Initiative\nNavigate trade disruption. Access funding. Strengthen your competitiveness. \nThe Canadian Institute of Steel Construction (CISC) invites members to a timely webinar featuring government representatives to explore two major funding programs designed to support Canadian businesses during trade disruptions: the Strategic Response Fund (SRF) and the Regional Tariff Response Initiative (RTRI). \nThis session will help steel-sector companies understand what funding is available\, which projects may qualify\, and how these programs can support innovation\, resilience\, and long-term growth. \nWhy Attend?\nIn this webinar\, you will: \n\nLearn about current federal and regional funding supports for the steel sector\nUnderstand eligibility requirements and the types of projects being funded\nHear directly from government representatives\nAsk questions and gain clarity on next steps\n\nProgram Highlights\nStrategic Response Fund (SRF)\nAdministered by Innovation\, Science and Economic Development Canada (ISED)\, the Strategic Response Fund supports large-scale\, transformative projects that strengthen supply chains\, protect jobs\, and enhance competitiveness in key sectors such as steel. \nRegional Tariff Response Initiative (RTRI)\nDelivered through Canada’s regional development agencies\, the $1-billion RTRI supports targeted\, time-sensitive investments that improve productivity\, reduce costs\, strengthen supply chains\, and open new markets. \nWho Should Attend\n\nSteel fabricators and manufacturers\nIndustry suppliers and service providers\nBusiness leaders navigating trade impacts\n\n\nRegister Here\n\n*Please note: This webinar is open to CISC members and associates only.
URL:https://www.cisc-icca.ca/event/steel-sector-supports-strategic-response-fund-and-regional-tariff-response-initative/
LOCATION:PEI
CATEGORIES:Webinar,Webinar
ATTACH;FMTTYPE=image/png:https://www.cisc-icca.ca/wp-content/uploads/2026/01/03c0a63d-876b-0bd9-0589-477a6468f997.png
END:VEVENT
END:VCALENDAR